Workbook

Sheet PRODNAME
A1: SKU Produk | B1: Nama Produk
A2: AI8810-7 | B2: AIO - ACCESSORIES - HAIR DRYER 43G
A3: AI9905-1 | B3: AIO - AIO CARE 1.000.000 - 5.000.000 - PREMI 12 BULAN
A4: AI9905-6 | B4: AIO - AIO CARE 1.000.000 - 5.000.000 - PREMI 24 BULAN
A5: AI9905-3 | B5: AIO - AIO CARE 10.000.001 - 20.000.000 - PREMI 12 BULAN
A6: AI9905-8 | B6: AIO - AIO CARE 10.000.001 - 20.000.000 - PREMI 24 BULAN
A7: AI9905-4 | B7: AIO - AIO CARE 20.000.001 - 30.000.000 - PREMI 12 BULAN
A8: AI9905-9 | B8: AIO - AIO CARE 20.000.001 - 30.000.000 - PREMI 24 BULAN
A9: AI9905-5 | B9: AIO - AIO CARE 30.000.001 - 50.000.000 - PREMI 12 BULAN
A10: AI9905-10 | B10: AIO - AIO CARE 30.000.001 - 50.000.000 - PREMI 24 BULAN
A11: AI9905-2 | B11: AIO - AIO CARE 5.000.001 - 10.000.000 - PREMI 12 BULAN
A12: AI9905-7 | B12: AIO - AIO CARE 5.000.001 - 10.000.000 - PREMI 24 BULAN
... A46: AI9907-1 | B46: AIO - STORAGE CHARGE
A47: 171111 | B47: AIO - TESTING IT
A48: AL8810-24 | B48: ALT - BRIGHTENING BODY LOTION - MOROCCAN SUNSET 250 ML
A49: AL8810-25 | B49: ALT - BRIGHTENING BODY LOTION - REVERIE 250 ML
A50: AL8810-26 | B50: ALT - BRIGHTENING BODY LOTION - TAHITI SUNRISE 250 ML
A51: AL8810-21 | B51: ALT - BRIGHTENING BODY WASH - MOROCCAN SUNSET 500 ML
A52: AL8810-22 | B52: ALT - BRIGHTENING BODY WASH - REVERIE 500 ML
A53: AL8810-23 | B53: ALT - BRIGHTENING BODY WASH - TAHITI SUNRISE 500 ML
A54: AL8810-6 | B54: ALT - PERFUMERY - ALEXANDRIA OUD 50 ML
A55: AL8810-20 | B55: ALT - PERFUMERY - ALWAYS RIGHT 50 ML
A56: AL8810-9 | B56: ALT - PERFUMERY - BARON 100 ML
A57: AL8810-10 | B57: ALT - PERFUMERY - FOXY 100 ML
A58: AL8810-12 | B58: ALT - PERFUMERY - JOIE DE VIVRE 50 ML
A59: AL8810-19 | B59: ALT - PERFUMERY - MANNERS MAKETH 50 ML
... A5055: YM7703-4 | B5055: YONGMA - MAGIC COM DIGITAL 2 L - SMC 7047NA

Sheet cetak
B1: Cukup isi Kode and let excel do the rest
B2: Don’t touch sheet 2
B3: Isi Ini | C3: Don’t touch | D3: Isi Ini | E3: Isi Ini | F3: Don’t touch | G3: Don’t touch | H3: Don’t touch | I3: Don’t touch
B4: Kode | C4: Prodname | D4: HARGA 8 | E4: HARGA 6 | F4: BRAND | G4: DESC | H4: TYPE | I4: AIO CARE
B5: 65qned80tsa | C5: =IF(B5="", "", IFERROR(INDEX(PRODNAME!$B:$B, MATCH("*" & B5 & "*", PRODNAME!$B:$B, 0)), "")) -> LG - TV SMART 65" - 65QNED80TSA | D5: 10000000 | E5: 11000000 | F5: =TRIM(LEFT(C5, FIND("-", C5) - 1)) -> LG | G5: =TRIM(MID(C5, FIND("-", C5) + 1, FIND("-", C5, FIND("-", C5) + 1) - FIND("-", C5) - 1)) -> TV SMART 65" | H5: =TRIM(MID(C5, FIND("-", C5, FIND("-", C5) + 1) + 1, LEN(C5))) -> 65QNED80TSA | I5: {=_xlfn.IFS(E5<100000, 0, E5<1000000, 0, E5<=5000000, 80000, E5<=10000000, 155000, E5>10000000, 305000)} -> 305000
B6: 65U8500H | C6: =IF(B6="", "", IFERROR(INDEX(PRODNAME!$B:$B, MATCH("*" & B6 & "*", PRODNAME!$B:$B, 0)), "")) -> SAMSUNG - TV SMART 65" - UA65U8500HKXXD | D6: 10000000 | E6: 11000000 | F6: =TRIM(LEFT(C6, FIND("-", C6) - 1)) -> SAMSUNG | G6: =TRIM(MID(C6, FIND("-", C6) + 1, FIND("-", C6, FIND("-", C6) + 1) - FIND("-", C6) - 1)) -> TV SMART 65" | H6: =TRIM(MID(C6, FIND("-", C6, FIND("-", C6) + 1) + 1, LEN(C6))) -> UA65U8500HKXXD | I6: {=_xlfn.IFS(E6<100000, 0, E6<1000000, 0, E6<=5000000, 80000, E6<=10000000, 155000, E6>10000000, 305000)} -> 305000
B7: 125D4 | C7: =IF(B7="", "", IFERROR(INDEX(PRODNAME!$B:$B, MATCH("*" & B7 & "*", PRODNAME!$B:$B, 0)), "")) -> HISENSE - KULKAS 1 PINTU 95 L - RR125D4IBN | D7: 10000000 | E7: 11000000 | F7: =TRIM(LEFT(C7, FIND("-", C7) - 1)) -> HISENSE | G7: =TRIM(MID(C7, FIND("-", C7) + 1, FIND("-", C7, FIND("-", C7) + 1) - FIND("-", C7) - 1)) -> KULKAS 1 PINTU 95 L | H7: =TRIM(MID(C7, FIND("-", C7, FIND("-", C7) + 1) + 1, LEN(C7))) -> RR125D4IBN | I7: {=_xlfn.IFS(E7<100000, 0, E7<1000000, 0, E7<=5000000, 80000, E7<=10000000, 155000, E7>10000000, 305000)} -> 305000
C8: =IF(B8="", "", IFERROR(INDEX(PRODNAME!$B:$B, MATCH("*" & B8 & "*", PRODNAME!$B:$B, 0)), "")) | F8: =TRIM(LEFT(C8, FIND("-", C8) - 1)) -> #VALUE! | G8: =TRIM(MID(C8, FIND("-", C8) + 1, FIND("-", C8, FIND("-", C8) + 1) - FIND("-", C8) - 1)) -> #VALUE! | H8: =TRIM(MID(C8, FIND("-", C8, FIND("-", C8) + 1) + 1, LEN(C8))) -> #VALUE! | I8: {=_xlfn.IFS(E8<100000, 0, E8<1000000, 0, E8<=5000000, 80000, E8<=10000000, 155000, E8>10000000, 305000)} -> 0
C9: =IF(B9="", "", IFERROR(INDEX(PRODNAME!$B:$B, MATCH("*" & B9 & "*", PRODNAME!$B:$B, 0)), "")) | F9: =TRIM(LEFT(C9, FIND("-", C9) - 1)) -> #VALUE! | G9: =TRIM(MID(C9, FIND("-", C9) + 1, FIND("-", C9, FIND("-", C9) + 1) - FIND("-", C9) - 1)) -> #VALUE! | H9: =TRIM(MID(C9, FIND("-", C9, FIND("-", C9) + 1) + 1, LEN(C9))) -> #VALUE! | I9: {=_xlfn.IFS(E9<100000, 0, E9<1000000, 0, E9<=5000000, 80000, E9<=10000000, 155000, E9>10000000, 305000)} -> 0
C10: =IF(B10="", "", IFERROR(INDEX(PRODNAME!$B:$B, MATCH("*" & B10 & "*", PRODNAME!$B:$B, 0)), "")) | F10: =TRIM(LEFT(C10, FIND("-", C10) - 1)) -> #VALUE! | G10: =TRIM(MID(C10, FIND("-", C10) + 1, FIND("-", C10, FIND("-", C10) + 1) - FIND("-", C10) - 1)) -> #VALUE! | H10: =TRIM(MID(C10, FIND("-", C10, FIND("-", C10) + 1) + 1, LEN(C10))) -> #VALUE! | I10: {=_xlfn.IFS(E10<100000, 0, E10<1000000, 0, E10<=5000000, 80000, E10<=10000000, 155000, E10>10000000, 305000)} -> 0
C11: =IF(B11="", "", IFERROR(INDEX(PRODNAME!$B:$B, MATCH("*" & B11 & "*", PRODNAME!$B:$B, 0)), "")) | F11: =TRIM(LEFT(C11, FIND("-", C11) - 1)) -> #VALUE! | G11: =TRIM(MID(C11, FIND("-", C11) + 1, FIND("-", C11, FIND("-", C11) + 1) - FIND("-", C11) - 1)) -> #VALUE! | H11: =TRIM(MID(C11, FIND("-", C11, FIND("-", C11) + 1) + 1, LEN(C11))) -> #VALUE! | I11: {=_xlfn.IFS(E11<100000, 0, E11<1000000, 0, E11<=5000000, 80000, E11<=10000000, 155000, E11>10000000, 305000)} -> 0
C12: =IF(B12="", "", IFERROR(INDEX(PRODNAME!$B:$B, MATCH("*" & B12 & "*", PRODNAME!$B:$B, 0)), "")) | F12: =TRIM(LEFT(C12, FIND("-", C12) - 1)) -> #VALUE! | G12: =TRIM(MID(C12, FIND("-", C12) + 1, FIND("-", C12, FIND("-", C12) + 1) - FIND("-", C12) - 1)) -> #VALUE! | H12: =TRIM(MID(C12, FIND("-", C12, FIND("-", C12) + 1) + 1, LEN(C12))) -> #VALUE! | I12: {=_xlfn.IFS(E12<100000, 0, E12<1000000, 0, E12<=5000000, 80000, E12<=10000000, 155000, E12>10000000, 305000)} -> 0
C13: =IF(B13="", "", IFERROR(INDEX(PRODNAME!$B:$B, MATCH("*" & B13 & "*", PRODNAME!$B:$B, 0)), "")) | F13: =TRIM(LEFT(C13, FIND("-", C13) - 1)) -> #VALUE! | G13: =TRIM(MID(C13, FIND("-", C13) + 1, FIND("-", C13, FIND("-", C13) + 1) - FIND("-", C13) - 1)) -> #VALUE! | H13: =TRIM(MID(C13, FIND("-", C13, FIND("-", C13) + 1) + 1, LEN(C13))) -> #VALUE! | I13: {=_xlfn.IFS(E13<100000, 0, E13<1000000, 0, E13<=5000000, 80000, E13<=10000000, 155000, E13>10000000, 305000)} -> 0
C14: =IF(B14="", "", IFERROR(INDEX(PRODNAME!$B:$B, MATCH("*" & B14 & "*", PRODNAME!$B:$B, 0)), "")) | F14: =TRIM(LEFT(C14, FIND("-", C14) - 1)) -> #VALUE! | G14: =TRIM(MID(C14, FIND("-", C14) + 1, FIND("-", C14, FIND("-", C14) + 1) - FIND("-", C14) - 1)) -> #VALUE! | H14: =TRIM(MID(C14, FIND("-", C14, FIND("-", C14) + 1) + 1, LEN(C14))) -> #VALUE! | I14: {=_xlfn.IFS(E14<100000, 0, E14<1000000, 0, E14<=5000000, 80000, E14<=10000000, 155000, E14>10000000, 305000)} -> 0
C15: =IF(B15="", "", IFERROR(INDEX(PRODNAME!$B:$B, MATCH("*" & B15 & "*", PRODNAME!$B:$B, 0)), "")) | F15: =TRIM(LEFT(C15, FIND("-", C15) - 1)) -> #VALUE! | G15: =TRIM(MID(C15, FIND("-", C15) + 1, FIND("-", C15, FIND("-", C15) + 1) - FIND("-", C15) - 1)) -> #VALUE! | H15: =TRIM(MID(C15, FIND("-", C15, FIND("-", C15) + 1) + 1, LEN(C15))) -> #VALUE! | I15: {=_xlfn.IFS(E15<100000, 0, E15<1000000, 0, E15<=5000000, 80000, E15<=10000000, 155000, E15>10000000, 305000)} -> 0
C16: =IF(B16="", "", IFERROR(INDEX(PRODNAME!$B:$B, MATCH("*" & B16 & "*", PRODNAME!$B:$B, 0)), "")) | F16: =TRIM(LEFT(C16, FIND("-", C16) - 1)) -> #VALUE! | G16: =TRIM(MID(C16, FIND("-", C16) + 1, FIND("-", C16, FIND("-", C16) + 1) - FIND("-", C16) - 1)) -> #VALUE! | H16: =TRIM(MID(C16, FIND("-", C16, FIND("-", C16) + 1) + 1, LEN(C16))) -> #VALUE! | I16: {=_xlfn.IFS(E16<100000, 0, E16<1000000, 0, E16<=5000000, 80000, E16<=10000000, 155000, E16>10000000, 305000)} -> 0
C17: =IF(B17="", "", IFERROR(INDEX(PRODNAME!$B:$B, MATCH("*" & B17 & "*", PRODNAME!$B:$B, 0)), "")) | F17: =TRIM(LEFT(C17, FIND("-", C17) - 1)) -> #VALUE! | G17: =TRIM(MID(C17, FIND("-", C17) + 1, FIND("-", C17, FIND("-", C17) + 1) - FIND("-", C17) - 1)) -> #VALUE! | H17: =TRIM(MID(C17, FIND("-", C17, FIND("-", C17) + 1) + 1, LEN(C17))) -> #VALUE! | I17: {=_xlfn.IFS(E17<100000, 0, E17<1000000, 0, E17<=5000000, 80000, E17<=10000000, 155000, E17>10000000, 305000)} -> 0
C18: =IF(B18="", "", IFERROR(INDEX(PRODNAME!$B:$B, MATCH("*" & B18 & "*", PRODNAME!$B:$B, 0)), "")) | F18: =TRIM(LEFT(C18, FIND("-", C18) - 1)) -> #VALUE! | G18: =TRIM(MID(C18, FIND("-", C18) + 1, FIND("-", C18, FIND("-", C18) + 1) - FIND("-", C18) - 1)) -> #VALUE! | H18: =TRIM(MID(C18, FIND("-", C18, FIND("-", C18) + 1) + 1, LEN(C18))) -> #VALUE! | I18: {=_xlfn.IFS(E18<100000, 0, E18<1000000, 0, E18<=5000000, 80000, E18<=10000000, 155000, E18>10000000, 305000)} -> 0
C19: =IF(B19="", "", IFERROR(INDEX(PRODNAME!$B:$B, MATCH("*" & B19 & "*", PRODNAME!$B:$B, 0)), "")) | F19: =TRIM(LEFT(C19, FIND("-", C19) - 1)) -> #VALUE! | G19: =TRIM(MID(C19, FIND("-", C19) + 1, FIND("-", C19, FIND("-", C19) + 1) - FIND("-", C19) - 1)) -> #VALUE! | H19: =TRIM(MID(C19, FIND("-", C19, FIND("-", C19) + 1) + 1, LEN(C19))) -> #VALUE! | I19: {=_xlfn.IFS(E19<100000, 0, E19<1000000, 0, E19<=5000000, 80000, E19<=10000000, 155000, E19>10000000, 305000)} -> 0
... C46: =IF(B46="", "", IFERROR(INDEX(PRODNAME!$B:$B, MATCH("*" & B46 & "*", PRODNAME!$B:$B, 0)), "")) | F46: =TRIM(LEFT(C46, FIND("-", C46) - 1)) -> #VALUE! | G46: =TRIM(MID(C46, FIND("-", C46) + 1, FIND("-", C46, FIND("-", C46) + 1) - FIND("-", C46) - 1)) -> #VALUE! | H46: =TRIM(MID(C46, FIND("-", C46, FIND("-", C46) + 1) + 1, LEN(C46))) -> #VALUE! | I46: {=_xlfn.IFS(E46<100000, 0, E46<1000000, 0, E46<=5000000, 80000, E46<=10000000, 155000, E46>10000000, 305000)} -> 0

Sheet Sheet2
A1: LOGO | B1: deskripsi | C1: kode | D1: cicilan | E1: cash | F1: harga_proteksi | G1: logo_url | H1: POP
A2: =cetak!F5 -> LG | B2: =IFERROR(cetak!G5,"") -> TV SMART 65" | C2: =cetak!H5 -> 65QNED80TSA | D2: =cetak!D5 -> 10000000 | E2: =cetak!E5 -> 11000000 | F2: =cetak!I5 -> 305000 | H2: A6
A3: =cetak!F6 -> SAMSUNG | B3: =IFERROR(cetak!G6,"") -> TV SMART 65" | C3: =cetak!H6 -> UA65U8500HKXXD | D3: =cetak!D6 -> 10000000 | E3: =cetak!E6 -> 11000000 | F3: =cetak!I6 -> 305000 | H3: A7
A4: =cetak!F7 -> HISENSE | B4: =IFERROR(cetak!G7,"") -> KULKAS 1 PINTU 95 L | C4: =cetak!H7 -> RR125D4IBN | D4: =cetak!D7 -> 10000000 | E4: =cetak!E7 -> 11000000 | F4: =cetak!I7 -> 305000 | H4: HANGTAG
A5: =cetak!F8 -> #VALUE! | B5: =IFERROR(cetak!G8,"") | C5: =cetak!H8 -> #VALUE! | D5: =cetak!D8 -> 0 | E5: =cetak!E8 -> 0 | F5: =cetak!I8 -> 0
A6: =cetak!F9 -> #VALUE! | B6: =IFERROR(cetak!G9,"") | C6: =cetak!H9 -> #VALUE! | D6: =cetak!D9 -> 0 | E6: =cetak!E9 -> 0 | F6: =cetak!I9 -> 0
A7: =cetak!F10 -> #VALUE! | B7: =IFERROR(cetak!G10,"") | C7: =cetak!H10 -> #VALUE! | D7: =cetak!D10 -> 0 | E7: =cetak!E10 -> 0 | F7: =cetak!I10 -> 0
A8: =cetak!F11 -> #VALUE! | B8: =IFERROR(cetak!G11,"") | C8: =cetak!H11 -> #VALUE! | D8: =cetak!D11 -> 0 | E8: =cetak!E11 -> 0 | F8: =cetak!I11 -> 0
A9: =cetak!F12 -> #VALUE! | B9: =IFERROR(cetak!G12,"") | C9: =cetak!H12 -> #VALUE! | D9: =cetak!D12 -> 0 | E9: =cetak!E12 -> 0 | F9: =cetak!I12 -> 0
A10: =cetak!F13 -> #VALUE! | B10: =IFERROR(cetak!G13,"") | C10: =cetak!H13 -> #VALUE! | D10: =cetak!D13 -> 0 | E10: =cetak!E13 -> 0 | F10: =cetak!I13 -> 0
A11: =cetak!F14 -> #VALUE! | B11: =IFERROR(cetak!G14,"") | C11: =cetak!H14 -> #VALUE! | D11: =cetak!D14 -> 0 | E11: =cetak!E14 -> 0 | F11: =cetak!I14 -> 0
A12: =cetak!F15 -> #VALUE! | B12: =IFERROR(cetak!G15,"") | C12: =cetak!H15 -> #VALUE! | D12: =cetak!D15 -> 0 | E12: =cetak!E15 -> 0 | F12: =cetak!I15 -> 0
A13: =cetak!F16 -> #VALUE! | B13: =IFERROR(cetak!G16,"") | C13: =cetak!H16 -> #VALUE! | D13: =cetak!D16 -> 0 | E13: =cetak!E16 -> 0 | F13: =cetak!I16 -> 0
A14: =cetak!F17 -> #VALUE! | B14: =IFERROR(cetak!G17,"") | C14: =cetak!H17 -> #VALUE! | D14: =cetak!D17 -> 0 | E14: =cetak!E17 -> 0 | F14: =cetak!I17 -> 0
A15: =cetak!F18 -> #VALUE! | B15: =IFERROR(cetak!G18,"") | C15: =cetak!H18 -> #VALUE! | D15: =cetak!D18 -> 0 | E15: =cetak!E18 -> 0 | F15: =cetak!I18 -> 0
A16: =cetak!F19 -> #VALUE! | B16: =IFERROR(cetak!G19,"") | C16: =cetak!H19 -> #VALUE! | D16: =cetak!D19 -> 0 | E16: =cetak!E19 -> 0 | F16: =cetak!I19 -> 0
... A30: =cetak!F33 -> #VALUE! | B30: =IFERROR(cetak!G33,"") | C30: =cetak!H33 -> #VALUE! | D30: =cetak!D33 -> 0 | E30: =cetak!E33 -> 0 | F30: =cetak!I33 -> 0
